BEGIN:VCALENDAR
VERSION:2.0
PRODID:-//ChamberMaster//Event Calendar 2.0//EN
METHOD:PUBLISH
X-PUBLISHED-TTL:P1H
REFRESH-INTERVAL:P1H
CALSCALE:GREGORIAN
BEGIN:VTIMEZONE
TZID:America/Chicago
BEGIN:DAYLIGHT
RRULE:FREQ=YEARLY;BYMONTH=3;BYDAY=2SU
DTSTART:20070101T000000
TZOFFSETFROM:-0600
TZOFFSETTO:-0500
TZNAME:Central Daylight Time
END:DAYLIGHT
BEGIN:STANDARD
RRULE:FREQ=YEARLY;BYMONTH=11;BYDAY=1SU
DTSTART:20070101T000000
TZOFFSETFROM:-0500
TZOFFSETTO:-0600
TZNAME:Central Standard Time
END:STANDARD
END:VTIMEZONE
BEGIN:VEVENT
DTSTART;TZID=America/Chicago:20260422T130000
DTEND;TZID=America/Chicago:20260422T150000
X-MICROSOFT-CDO-ALLDAYEVENT:FALSE
SUMMARY:Frida: Viva La Vida
DESCRIPTION:Narrated by actress Asia Argento\, Frida: Viva La Vida offers an intimate and layered portrait of Frida Kahlo\, the feminist icon\, painter\, and complex soul whose legacy transcends borders. Through Frida’s own writings\, personal reflections\, and a stunning visual journey through her artwork and homeland\, this film reveals the duality of an artist who turned pain into power and suffering into strength.
X-ALT-DESC;FMTTYPE=text/html:Narrated by actress Asia Argento\, Frida: Viva La Vida offers an intimate and layered portrait of Frida Kahlo\, the feminist icon\, painter\, and complex soul whose legacy transcends borders. Through Frida’s own writings\, personal reflections\, and a stunning visual journey through her artwork and homeland\, this film reveals the duality of an artist who turned pain into power and suffering into strength.
LOCATION:121 W. Van Buren St Woodstock IL 60098
UID:e.1854.1397098
SEQUENCE:3
DTSTAMP:20260423T021938Z
URL:https://crystallakechamberofcommerce.growthzoneapp.com/events/Details/frida-viva-la-vida-1650834?sourceTypeId=Hub
END:VEVENT
END:VCALENDAR
