BEGIN:VCALENDAR
VERSION:2.0
PRODID:-//ChamberMaster//Event Calendar 2.0//EN
METHOD:PUBLISH
X-PUBLISHED-TTL:P1H
REFRESH-INTERVAL:P1H
CALSCALE:GREGORIAN
BEGIN:VTIMEZONE
TZID:America/Chicago
BEGIN:DAYLIGHT
RRULE:FREQ=YEARLY;BYMONTH=3;BYDAY=2SU
DTSTART:20070101T000000
TZOFFSETFROM:-0600
TZOFFSETTO:-0500
TZNAME:Central Daylight Time
END:DAYLIGHT
BEGIN:STANDARD
RRULE:FREQ=YEARLY;BYMONTH=11;BYDAY=1SU
DTSTART:20070101T000000
TZOFFSETFROM:-0500
TZOFFSETTO:-0600
TZNAME:Central Standard Time
END:STANDARD
END:VTIMEZONE
BEGIN:VEVENT
DTSTART;TZID=America/Chicago:20260502T100000
DTEND;TZID=America/Chicago:20260508T170000
X-MICROSOFT-CDO-ALLDAYEVENT:FALSE
SUMMARY:First Responders Week at Volo Museum!
DESCRIPTION:This May\, Volo Museum and Jurassic Gardens are proud to salute the everyday heroes who run toward danger so the rest of us can stay safe.\n\nIn honor of First Responders Week\,  May 2nd through 8th\, we're throwing open our doors and offering complimentary Gold Pass Admission to all active and retired first responders — because some people deserve more than just a thank you.\n\nYour Gold Pass includes: Admission to both the Volo Museum and Jurassic Gardens — a full day of fun and adventure for those who give so much to keep us safe.\n\nTo redeem\, simply present your ID upon arrival.\n\nNo registration. No hassle. Just show your valid ID at the ticket counter when you arrive and enjoy.\n\nWhether you're into classic cars\, dinosaurs\, or just looking for a great day out — we’ve got something for you.\n\nThank You to our firefighters\, police officers\, EMTs\, paramedics\, and every first responder who puts on a uniform and shows up — this one's for you! Come celebrate\, relax\, and let us honor you the Volo way.\n\nVisit https://volofun.com/event/first-responders-week-at-volo-museum/ for details!
X-ALT-DESC;FMTTYPE=text/html:This May\, Volo Museum and Jurassic Gardens are proud to salute the everyday heroes who run toward danger so the rest of us can stay safe.\n\nIn honor of First Responders Week\,  May 2nd through 8th\, we're throwing open our doors and offering complimentary Gold Pass Admission to all active and retired first responders — because some people deserve more than just a thank you.\n\nYour Gold Pass includes: Admission to both the Volo Museum and Jurassic Gardens — a full day of fun and adventure for those who give so much to keep us safe.\n\nTo redeem\, simply present your ID upon arrival.\n\nNo registration. No hassle. Just show your valid ID at the ticket counter when you arrive and enjoy.\n\nWhether you're into classic cars\, dinosaurs\, or just looking for a great day out — we’ve got something for you.\n\nThank You to our firefighters\, police officers\, EMTs\, paramedics\, and every first responder who puts on a uniform and shows up — this one's for you! Come celebrate\, relax\, and let us honor you the Volo way.\n\nVisit https://volofun.com/event/first-responders-week-at-volo-museum/ for details!
LOCATION:27582 Volo Village Rd Volo IL 60073
UID:e.1854.1446740
SEQUENCE:3
DTSTAMP:20260423T022036Z
URL:https://crystallakechamberofcommerce.growthzoneapp.com/events/Details/first-responders-week-at-volo-museum-1713550?sourceTypeId=Hub
END:VEVENT
END:VCALENDAR
